BEGIN:VCALENDAR
VERSION:2.0
PRODID:-//Tukios.com/
BEGIN:VEVENT
UID:5a0f33d5-8ac7-438c-b8eb-02d63653119d@www.wilksfuneralhomes.com
DTSTAMP:20260420T084148Z
DTSTART:20260327T200000Z
DTEND:20260327T210000Z
SUMMARY:Celebration of Life
DESCRIPTION:
URL:https://www.wilksfuneralhomes.com/obituaries/gerald-waggoner
LOCATION:Wilks Funeral Home 211 West Chubbuck Road  Chubbuck ID 83202
GEO:42.9198829;-112.4693702
END:VEVENT
END:VCALENDAR