BEGIN:VCALENDAR
VERSION:2.0
PRODID:-//Tukios.com/
BEGIN:VEVENT
UID:871d7456-3f85-4def-a481-8730f8bc8626@www.wilksfuneralhomes.com
DTSTAMP:20260421T010820Z
DTSTART:20260424T160000Z
DTEND:20260424T170000Z
SUMMARY:Visitation
DESCRIPTION:
URL:https://www.wilksfuneralhomes.com/obituaries/gordon-neil
LOCATION: 211 W. Chubbuck Road  Chubbuck ID 83202
GEO:42.9198829;-112.4693702
END:VEVENT
END:VCALENDAR