BEGIN:VCALENDAR
VERSION:2.0
PRODID:-//Tukios.com/
BEGIN:VEVENT
UID:e8aae85e-9d77-499f-9a17-859363e2a374@www.wilksfuneralhomes.com
DTSTAMP:20260421T011143Z
DTSTART:20260424T170000Z
DTEND:20260424T180000Z
SUMMARY:Funeral Service
DESCRIPTION:
URL:https://www.wilksfuneralhomes.com/obituaries/gordon-neil
LOCATION: 211 W. Chubbuck Road  Chubbuck ID 83202
GEO:42.9198829;-112.4693702
END:VEVENT
END:VCALENDAR