BEGIN:VCALENDAR
VERSION:2.0
PRODID:-//Tukios.com/
BEGIN:VEVENT
UID:f4c9969b-de57-4556-9fe8-dc6971e1586e@www.wilksfuneralhomes.com
DTSTAMP:20260421T011128Z
DTSTART:20260424T200000Z
DTEND:20260424T210000Z
SUMMARY:Burial
DESCRIPTION:
URL:https://www.wilksfuneralhomes.com/obituaries/gordon-neil
LOCATION: 1520 South 5th Avenue  Pocatello ID 83205
GEO:42.8536058;-112.4259737
END:VEVENT
END:VCALENDAR