BEGIN:VCALENDAR
VERSION:2.0
PRODID:-//Tukios.com/
BEGIN:VEVENT
UID:6588abef-3a82-46bf-9930-0692e766ffb1@www.wilksfuneralhomes.com
DTSTAMP:20260423T024343Z
DTSTART:20260501T200000Z
DTEND:20260501T210000Z
SUMMARY:Memorial Service
DESCRIPTION:
URL:https://www.wilksfuneralhomes.com/obituaries/raelene-hardin
LOCATION: 211 West Chubbuck Road  Chubbuck ID 83202
GEO:42.9198829;-112.4693702
END:VEVENT
END:VCALENDAR