BEGIN:VCALENDAR
VERSION:2.0
PRODID:-//Tukios.com/
BEGIN:VEVENT
UID:a870fb97-99f5-4073-92f9-974480e6f01d@www.wilksfuneralhomes.com
DTSTAMP:20260423T024941Z
DTSTART:20260501T213000Z
DTEND:20260501T223000Z
SUMMARY:Burial
DESCRIPTION:
URL:https://www.wilksfuneralhomes.com/obituaries/raelene-hardin
LOCATION: 1 Willow Drive  Blackfoot ID 83221
GEO:43.2001367;-112.3277349
END:VEVENT
END:VCALENDAR