BEGIN:VCALENDAR
VERSION:2.0
PRODID:-//Tukios.com/
BEGIN:VEVENT
UID:7a08f6ae-382f-4dd5-9bce-f6421bff17af@www.wilksfuneralhomes.com
DTSTAMP:20260423T024212Z
DTSTART:20260501T190000Z
DTEND:20260501T200000Z
SUMMARY:Visitation
DESCRIPTION:
URL:https://www.wilksfuneralhomes.com/obituaries/raelene-hardin
LOCATION: 211 W. Chubbuck Road  Chubbuck ID 83202
GEO:42.9198829;-112.4693702
END:VEVENT
END:VCALENDAR