BEGIN:VCALENDAR
VERSION:2.0
PRODID:-//Tukios.com/
BEGIN:VEVENT
UID:ae0c12f4-8fc8-40c0-a1c1-f03673d151ba@www.wilksfuneralhomes.com
DTSTAMP:20260423T000107Z
DTSTART:20260501T000000Z
DTEND:20260501T020000Z
SUMMARY:Viewing
DESCRIPTION:
URL:https://www.wilksfuneralhomes.com/obituaries/sylvan-morgan
LOCATION:Wilks Funeral Home 211 West Chubbuck Road  Chubbuck ID 83202
GEO:42.9198829;-112.4693702
END:VEVENT
END:VCALENDAR