BEGIN:VCALENDAR
VERSION:2.0
PRODID:-//Tukios.com/
BEGIN:VEVENT
UID:35622f6f-ae7b-4c39-ab0b-a4b0aa714f59@www.wilksfuneralhomes.com
DTSTAMP:20260423T000258Z
DTSTART:20260501T160000Z
DTEND:20260501T170000Z
SUMMARY:Viewing
DESCRIPTION:
URL:https://www.wilksfuneralhomes.com/obituaries/sylvan-morgan
LOCATION: 4775 Hawthorne Rd  Pocatello ID 83202
GEO:42.9199862;-112.4769009
END:VEVENT
END:VCALENDAR