BEGIN:VCALENDAR
VERSION:2.0
PRODID:-//Tukios.com/
BEGIN:VEVENT
UID:29b169e4-3459-41b8-bec2-fed9dbbff482@www.wilksfuneralhomes.com
DTSTAMP:20260423T000403Z
DTSTART:20260501T170000Z
DTEND:20260501T180000Z
SUMMARY:Funeral Service
DESCRIPTION:
URL:https://www.wilksfuneralhomes.com/obituaries/sylvan-morgan
LOCATION: 4775 Hawthorne Rd  Pocatello ID 83202
GEO:42.9199862;-112.4769009
END:VEVENT
END:VCALENDAR