BEGIN:VCALENDAR
VERSION:2.0
PRODID:-//Tukios.com/
BEGIN:VEVENT
UID:58928071-b5b9-4808-8c18-942139d99a74@www.wilksfuneralhomes.com
DTSTAMP:20260423T000628Z
DTSTART:20260501T181500Z
DTEND:20260501T201500Z
SUMMARY:Burial
DESCRIPTION:
URL:https://www.wilksfuneralhomes.com/obituaries/sylvan-morgan
LOCATION: 1520 South 5th Avenue  Pocatello ID 83205
GEO:42.8536058;-112.4259737
END:VEVENT
END:VCALENDAR